BEGIN:VCALENDAR
VERSION:2.0
PRODID:-//Willkommen auf www.Poppenroth.de - ECPv6.11.2.1//NONSGML v1.0//EN
CALSCALE:GREGORIAN
METHOD:PUBLISH
X-WR-CALNAME:Willkommen auf www.Poppenroth.de
X-ORIGINAL-URL:https://poppenroth.de
X-WR-CALDESC:Veranstaltungen für Willkommen auf www.Poppenroth.de
REFRESH-INTERVAL;VALUE=DURATION:PT1H
X-Robots-Tag:noindex
X-PUBLISHED-TTL:PT1H
BEGIN:VTIMEZONE
TZID:UTC
BEGIN:STANDARD
TZOFFSETFROM:+0000
TZOFFSETTO:+0000
TZNAME:UTC
DTSTART:20260101T000000
END:STANDARD
END:VTIMEZONE
BEGIN:VEVENT
DTSTART;VALUE=DATE:20260425
DTEND;VALUE=DATE:20260426
DTSTAMP:20260420T022902
CREATED:20251121T200832Z
LAST-MODIFIED:20251121T200832Z
UID:611-1777075200-1777161599@poppenroth.de
SUMMARY:Königsball
DESCRIPTION:
URL:https://poppenroth.de/event/koenigsball-3/
LOCATION:Schützenhaus Poppenroth
END:VEVENT
BEGIN:VEVENT
DTSTART;VALUE=DATE:20260430
DTEND;VALUE=DATE:20260501
DTSTAMP:20260420T022902
CREATED:20251121T200912Z
LAST-MODIFIED:20251121T200912Z
UID:613-1777507200-1777593599@poppenroth.de
SUMMARY:Maibaum
DESCRIPTION:
URL:https://poppenroth.de/event/maibaum-2/
LOCATION:Dorfplatz
END:VEVENT
BEGIN:VEVENT
DTSTART;VALUE=DATE:20260503
DTEND;VALUE=DATE:20260504
DTSTAMP:20260420T022902
CREATED:20251121T200515Z
LAST-MODIFIED:20260303T211807Z
UID:603-1777766400-1777852799@poppenroth.de
SUMMARY:Jahreshauptversammlung Schützengilde
DESCRIPTION:
URL:https://poppenroth.de/event/jahreshauptversammlung-schuetzengilde/
LOCATION:Schützenhaus Poppenroth
END:VEVENT
BEGIN:VEVENT
DTSTART;VALUE=DATE:20260514
DTEND;VALUE=DATE:20260515
DTSTAMP:20260420T022902
CREATED:20251121T201010Z
LAST-MODIFIED:20251121T201010Z
UID:615-1778716800-1778803199@poppenroth.de
SUMMARY:Party an Himmelfahrt
DESCRIPTION:
URL:https://poppenroth.de/event/party-an-himmelfahrt/
LOCATION:Schützenhaus Poppenroth
END:VEVENT
BEGIN:VEVENT
DTSTART;VALUE=DATE:20260604
DTEND;VALUE=DATE:20260608
DTSTAMP:20260420T022902
CREATED:20251121T201058Z
LAST-MODIFIED:20251121T201058Z
UID:617-1780531200-1780876799@poppenroth.de
SUMMARY:JBM
DESCRIPTION:
URL:https://poppenroth.de/event/jbm-3/
LOCATION:Schützenhaus Poppenroth
END:VEVENT
BEGIN:VEVENT
DTSTART;VALUE=DATE:20260620
DTEND;VALUE=DATE:20260621
DTSTAMP:20260420T022902
CREATED:20251121T201134Z
LAST-MODIFIED:20251121T201134Z
UID:619-1781913600-1781999999@poppenroth.de
SUMMARY:Sonnwendfeuer
DESCRIPTION:
URL:https://poppenroth.de/event/sonnwendfeuer-2/
LOCATION:Feuerwehrhaus
END:VEVENT
BEGIN:VEVENT
DTSTART;VALUE=DATE:20260628
DTEND;VALUE=DATE:20260629
DTSTAMP:20260420T022902
CREATED:20251121T201210Z
LAST-MODIFIED:20251121T201210Z
UID:621-1782604800-1782691199@poppenroth.de
SUMMARY:Sommerfest
DESCRIPTION:
URL:https://poppenroth.de/event/sommerfest/
LOCATION:Kindergarten
END:VEVENT
BEGIN:VEVENT
DTSTART;VALUE=DATE:20260711
DTEND;VALUE=DATE:20260712
DTSTAMP:20260420T022902
CREATED:20251121T201256Z
LAST-MODIFIED:20251121T201256Z
UID:623-1783728000-1783814399@poppenroth.de
SUMMARY:Popp´n´Doppel
DESCRIPTION:
URL:https://poppenroth.de/event/poppndoppel/
LOCATION:Tennisplatz Sportplatz Poppenroth
END:VEVENT
BEGIN:VEVENT
DTSTART;VALUE=DATE:20260712
DTEND;VALUE=DATE:20260713
DTSTAMP:20260420T022902
CREATED:20251121T201338Z
LAST-MODIFIED:20251121T201338Z
UID:625-1783814400-1783900799@poppenroth.de
SUMMARY:Mambo Cup
DESCRIPTION:
URL:https://poppenroth.de/event/mambo-cup-3/
LOCATION:Sportheim FC Viktoria Poppenroth
END:VEVENT
BEGIN:VEVENT
DTSTART;VALUE=DATE:20260912
DTEND;VALUE=DATE:20260913
DTSTAMP:20260420T022902
CREATED:20251121T201520Z
LAST-MODIFIED:20251121T201520Z
UID:629-1789171200-1789257599@poppenroth.de
SUMMARY:Finaltag Poppenroth Open
DESCRIPTION:
URL:https://poppenroth.de/event/finaltag-poppenroth-open/
LOCATION:Tennisplatz Sportplatz Poppenroth
END:VEVENT
BEGIN:VEVENT
DTSTART;VALUE=DATE:20260912
DTEND;VALUE=DATE:20260914
DTSTAMP:20260420T022902
CREATED:20251121T201437Z
LAST-MODIFIED:20251121T201437Z
UID:627-1789171200-1789343999@poppenroth.de
SUMMARY:Kreuzbergwallfahrt
DESCRIPTION:
URL:https://poppenroth.de/event/kreuzbergwallfahrt/
LOCATION:Dorfplatz
END:VEVENT
BEGIN:VEVENT
DTSTART;VALUE=DATE:20260926
DTEND;VALUE=DATE:20260927
DTSTAMP:20260420T022902
CREATED:20251121T201612Z
LAST-MODIFIED:20251121T201612Z
UID:631-1790380800-1790467199@poppenroth.de
SUMMARY:Veranstaltung Schützengilde
DESCRIPTION:
URL:https://poppenroth.de/event/veranstaltung-schuetzengilde/
LOCATION:Schützenhaus Poppenroth
END:VEVENT
BEGIN:VEVENT
DTSTART;VALUE=DATE:20260928
DTEND;VALUE=DATE:20260929
DTSTAMP:20260420T022902
CREATED:20251121T201647Z
LAST-MODIFIED:20251121T201647Z
UID:633-1790553600-1790639999@poppenroth.de
SUMMARY:Vereins- und Firmenschießen
DESCRIPTION:
URL:https://poppenroth.de/event/vereins-und-firmenschiessen-2/
LOCATION:Schützenhaus Poppenroth
END:VEVENT
BEGIN:VEVENT
DTSTART;VALUE=DATE:20261003
DTEND;VALUE=DATE:20261004
DTSTAMP:20260420T022902
CREATED:20251121T201723Z
LAST-MODIFIED:20251121T201723Z
UID:635-1790985600-1791071999@poppenroth.de
SUMMARY:Open Aehre
DESCRIPTION:
URL:https://poppenroth.de/event/open-aehre-2/
LOCATION:Wasserhäuschen
END:VEVENT
BEGIN:VEVENT
DTSTART;VALUE=DATE:20261010
DTEND;VALUE=DATE:20261011
DTSTAMP:20260420T022902
CREATED:20251121T201757Z
LAST-MODIFIED:20251121T201757Z
UID:637-1791590400-1791676799@poppenroth.de
SUMMARY:Federweißenabend
DESCRIPTION:
URL:https://poppenroth.de/event/federweissenabend-2/
LOCATION:Feuerwehrhaus
END:VEVENT
BEGIN:VEVENT
DTSTART;VALUE=DATE:20261017
DTEND;VALUE=DATE:20261018
DTSTAMP:20260420T022902
CREATED:20251121T201838Z
LAST-MODIFIED:20251121T201838Z
UID:639-1792195200-1792281599@poppenroth.de
SUMMARY:Herbstwanderung mit Platzabdeckung
DESCRIPTION:
URL:https://poppenroth.de/event/herbstwanderung-mit-platzabdeckung/
LOCATION:Tennisplatz Sportplatz Poppenroth
END:VEVENT
BEGIN:VEVENT
DTSTART;VALUE=DATE:20261026
DTEND;VALUE=DATE:20261027
DTSTAMP:20260420T022902
CREATED:20251121T201924Z
LAST-MODIFIED:20251121T201924Z
UID:641-1792972800-1793059199@poppenroth.de
SUMMARY:Terminabsprache 19:30 Uhr
DESCRIPTION:
URL:https://poppenroth.de/event/terminabsprache-1930-uhr/
LOCATION:Feuerwehrhaus
END:VEVENT
BEGIN:VEVENT
DTSTART;VALUE=DATE:20261113
DTEND;VALUE=DATE:20261114
DTSTAMP:20260420T022902
CREATED:20251121T202002Z
LAST-MODIFIED:20251121T202002Z
UID:643-1794528000-1794614399@poppenroth.de
SUMMARY:St. Martin
DESCRIPTION:
URL:https://poppenroth.de/event/st-martin/
LOCATION:Kindergarten
END:VEVENT
BEGIN:VEVENT
DTSTART;VALUE=DATE:20261122
DTEND;VALUE=DATE:20261123
DTSTAMP:20260420T022902
CREATED:20251121T202044Z
LAST-MODIFIED:20251121T202044Z
UID:645-1795305600-1795391999@poppenroth.de
SUMMARY:Sportlerehrung und Weihnachtsschießen
DESCRIPTION:
URL:https://poppenroth.de/event/sportlerehrung-und-weihnachtsschiessen/
LOCATION:Schützenhaus Poppenroth
END:VEVENT
BEGIN:VEVENT
DTSTART;VALUE=DATE:20261127
DTEND;VALUE=DATE:20261130
DTSTAMP:20260420T022902
CREATED:20251121T202142Z
LAST-MODIFIED:20251121T202142Z
UID:647-1795737600-1795996799@poppenroth.de
SUMMARY:Weihnachtsfeier
DESCRIPTION:
URL:https://poppenroth.de/event/weihnachtsfeier-2/
LOCATION:Sportheim FC Viktoria Poppenroth
END:VEVENT
BEGIN:VEVENT
DTSTART;VALUE=DATE:20261129
DTEND;VALUE=DATE:20261130
DTSTAMP:20260420T022902
CREATED:20251121T202227Z
LAST-MODIFIED:20251121T202227Z
UID:649-1795910400-1795996799@poppenroth.de
SUMMARY:Weihnachtsfeier VdK
DESCRIPTION:
URL:https://poppenroth.de/event/weihnachtsfeier-vdk-2/
END:VEVENT
BEGIN:VEVENT
DTSTART;VALUE=DATE:20261205
DTEND;VALUE=DATE:20261206
DTSTAMP:20260420T022902
CREATED:20251122T193501Z
LAST-MODIFIED:20251122T193501Z
UID:662-1796428800-1796515199@poppenroth.de
SUMMARY:Weihnachtsfeier
DESCRIPTION:
URL:https://poppenroth.de/event/weihnachtsfeier/
LOCATION:Schützenhaus Poppenroth
END:VEVENT
BEGIN:VEVENT
DTSTART;VALUE=DATE:20261206
DTEND;VALUE=DATE:20261207
DTSTAMP:20260420T022902
CREATED:20251121T202355Z
LAST-MODIFIED:20251121T202355Z
UID:654-1796515200-1796601599@poppenroth.de
SUMMARY:Seniorennachmittag
DESCRIPTION:
URL:https://poppenroth.de/event/seniorennachmittag/
END:VEVENT
BEGIN:VEVENT
DTSTART;VALUE=DATE:20261212
DTEND;VALUE=DATE:20261213
DTSTAMP:20260420T022902
CREATED:20251121T202441Z
LAST-MODIFIED:20251121T202441Z
UID:656-1797033600-1797119999@poppenroth.de
SUMMARY:Weihnachtsbaumverkauf
DESCRIPTION:
URL:https://poppenroth.de/event/weihnachtsbaumverkauf-2/
LOCATION:Feuerwehrhaus
END:VEVENT
BEGIN:VEVENT
DTSTART;VALUE=DATE:20261212
DTEND;VALUE=DATE:20261213
DTSTAMP:20260420T022902
CREATED:20251121T202549Z
LAST-MODIFIED:20251121T202549Z
UID:658-1797033600-1797119999@poppenroth.de
SUMMARY:interne Weihnachtsfeier Poppenrother Musikanten
DESCRIPTION:
URL:https://poppenroth.de/event/interne-weihnachtsfeier-poppenrother-musikanten/
END:VEVENT
BEGIN:VEVENT
DTSTART;VALUE=DATE:20261220
DTEND;VALUE=DATE:20261221
DTSTAMP:20260420T022902
CREATED:20251121T202639Z
LAST-MODIFIED:20251121T202639Z
UID:660-1797724800-1797811199@poppenroth.de
SUMMARY:Weihnachtskonzert
DESCRIPTION:
URL:https://poppenroth.de/event/weihnachtskonzert-3/
LOCATION:Kirche Poppenroth
END:VEVENT
END:VCALENDAR