BEGIN:VCALENDAR
VERSION:2.0
PRODID:-//Willkommen auf www.Poppenroth.de - ECPv6.11.2.1//NONSGML v1.0//EN
CALSCALE:GREGORIAN
METHOD:PUBLISH
X-WR-CALNAME:Willkommen auf www.Poppenroth.de
X-ORIGINAL-URL:https://poppenroth.de
X-WR-CALDESC:Veranstaltungen für Willkommen auf www.Poppenroth.de
REFRESH-INTERVAL;VALUE=DURATION:PT1H
X-Robots-Tag:noindex
X-PUBLISHED-TTL:PT1H
BEGIN:VTIMEZONE
TZID:UTC
BEGIN:STANDARD
TZOFFSETFROM:+0000
TZOFFSETTO:+0000
TZNAME:UTC
DTSTART:20260101T000000
END:STANDARD
END:VTIMEZONE
BEGIN:VEVENT
DTSTART;VALUE=DATE:20260205
DTEND;VALUE=DATE:20260206
DTSTAMP:20260423T085524
CREATED:20251121T195753Z
LAST-MODIFIED:20251121T195753Z
UID:587-1770249600-1770335999@poppenroth.de
SUMMARY:Jahreshauptversammlung Poppenrother Musikanten
DESCRIPTION:
URL:https://poppenroth.de/event/jahreshauptversammlung-poppenrother-musikanten/
END:VEVENT
BEGIN:VEVENT
DTSTART;VALUE=DATE:20260207
DTEND;VALUE=DATE:20260208
DTSTAMP:20260423T085524
CREATED:20251121T195843Z
LAST-MODIFIED:20251121T195843Z
UID:589-1770422400-1770508799@poppenroth.de
SUMMARY:Kinderfasching
DESCRIPTION:
URL:https://poppenroth.de/event/kinderfasching-2/
LOCATION:Sportheim FC Viktoria Poppenroth
END:VEVENT
BEGIN:VEVENT
DTSTART;VALUE=DATE:20260225
DTEND;VALUE=DATE:20260226
DTSTAMP:20260423T085524
CREATED:20251122T194007Z
LAST-MODIFIED:20251122T194007Z
UID:664-1771977600-1772063999@poppenroth.de
SUMMARY:Jahreshauptversammlung St. Johannisverein Poppenroth Albertshausen e.V.
DESCRIPTION:
URL:https://poppenroth.de/event/jahreshauptversammlung-st-johannisverein-poppenroth-albertshausen-e-v/
END:VEVENT
BEGIN:VEVENT
DTSTART;VALUE=DATE:20260228
DTEND;VALUE=DATE:20260301
DTSTAMP:20260423T085524
CREATED:20260101T223553Z
LAST-MODIFIED:20260101T223553Z
UID:670-1772236800-1772323199@poppenroth.de
SUMMARY:1. STEEL-DART-TURNIER
DESCRIPTION:
URL:https://poppenroth.de/event/1-steel-dart-turnier/
LOCATION:Sportheim FC Viktoria Poppenroth
END:VEVENT
END:VCALENDAR